BEGIN:VCALENDAR
VERSION:2.0
PRODID:-//Kompetenzinitiative - ECPv6.15.20//NONSGML v1.0//EN
CALSCALE:GREGORIAN
METHOD:PUBLISH
X-ORIGINAL-URL:https://kompetenzinitiative.de
X-WR-CALDESC:Veranstaltungen für Kompetenzinitiative
REFRESH-INTERVAL;VALUE=DURATION:PT1H
X-Robots-Tag:noindex
X-PUBLISHED-TTL:PT1H
BEGIN:VTIMEZONE
TZID:Europe/Paris
BEGIN:DAYLIGHT
TZOFFSETFROM:+0100
TZOFFSETTO:+0200
TZNAME:CEST
DTSTART:20240331T010000
END:DAYLIGHT
BEGIN:STANDARD
TZOFFSETFROM:+0200
TZOFFSETTO:+0100
TZNAME:CET
DTSTART:20241027T010000
END:STANDARD
BEGIN:DAYLIGHT
TZOFFSETFROM:+0100
TZOFFSETTO:+0200
TZNAME:CEST
DTSTART:20250330T010000
END:DAYLIGHT
BEGIN:STANDARD
TZOFFSETFROM:+0200
TZOFFSETTO:+0100
TZNAME:CET
DTSTART:20251026T010000
END:STANDARD
BEGIN:DAYLIGHT
TZOFFSETFROM:+0100
TZOFFSETTO:+0200
TZNAME:CEST
DTSTART:20260329T010000
END:DAYLIGHT
BEGIN:STANDARD
TZOFFSETFROM:+0200
TZOFFSETTO:+0100
TZNAME:CET
DTSTART:20261025T010000
END:STANDARD
END:VTIMEZONE
BEGIN:VEVENT
DTSTART;TZID=Europe/Paris:20251111T190000
DTEND;TZID=Europe/Paris:20251111T210000
DTSTAMP:20260419T161631
CREATED:20250923T200701Z
LAST-MODIFIED:20251025T195604Z
UID:25283-1762887600-1762894800@kompetenzinitiative.de
SUMMARY:Vortrag Elektrohypersensitivität
DESCRIPTION:Elektrohypersensitivität – eine Multisystemerkrankung auf dem Vormarsch – Biologische Effekte\, diagnostische und therapeutische Ansätze \nVortrag\nam Dienstag\, 11. November 2025 um 19 Uhr\nMittelweg 11 – 12\, 20148 Hamburg\nKathleen Giersch\, Diplom-Biologin und Heilpraktikerin \nMultisystemerkrankungen nehmen in den letzten Jahrzehnten stetig zu. Was aber können Gründe dafür sein? Viele dieser Erkrankungen haben ihre Ursache in Umweltbedingungen\, die für den menschlichen Organismus belastend sind. In ihrem Vortrag geht Kathleen Giersch speziell auf die Elektrohypersensitivität (EHS) ein – eine Reaktion des Körpers auf künstlich erzeugte elektromagnetische Felder\, die u. a. durch Mobilfunk entstehen (wie z. B. Mobilfunk-Sendeanlagen\, Smartphones\, DECT-Telefone\, W-LAN oder Bluetooth). Selten werden hier Zusammenhänge gesehen. \nKathleen Giersch leitet Heilpraxen in Wremen und Bremen und berichtet aus der Praxis: Was sind Multisystemerkrankungen? Wie äußert sich EHS? Woran merkt man\, dass man betroffen ist? Wie lässt sich eine Diagnose stellen? Was kann man tun\, um die Symptome zu lindern? \nVeranstalter:\nBürgerinitiative Mobilfunk Hamburg in Kooperation mit der Kompetenzinitiative zum Schutz von Mensch\, Umwelt und Demokratie e.V. \nKontakt:\ninfo@bi-mobilfunk-hamburg.de\nwww.bi-mobilfunk-hamburg.de/index.htm \nFlyer:\nhttps://kompetenzinitiative.de/wp-content/uploads/2025/09/DIN-lang_HH.pdf
URL:https://kompetenzinitiative.de/termine/vortrag-elektrohypersensitivitaet/
LOCATION:Hamburg Rudolf-Steiner-Haus\, Mittelweg 11 - 12\, Hamburg\, 20148\, Germany
ATTACH;FMTTYPE=image/jpeg:https://kompetenzinitiative.de/wp-content/uploads/2024/12/frau_mit_kopfschmerzen.jpg
END:VEVENT
END:VCALENDAR